BEGIN:VCALENDAR
VERSION:2.0
PRODID:-// - ECPv6.15.20//NONSGML v1.0//EN
CALSCALE:GREGORIAN
METHOD:PUBLISH
X-ORIGINAL-URL:https://starq.info
X-WR-CALDESC:Eventos para 
REFRESH-INTERVAL;VALUE=DURATION:PT1H
X-Robots-Tag:noindex
X-PUBLISHED-TTL:PT1H
BEGIN:VTIMEZONE
TZID:UTC
BEGIN:STANDARD
TZOFFSETFROM:+0000
TZOFFSETTO:+0000
TZNAME:UTC
DTSTART:20220101T000000
END:STANDARD
END:VTIMEZONE
BEGIN:VEVENT
DTSTART;TZID=UTC:20231109T180000
DTEND;TZID=UTC:20231109T200000
DTSTAMP:20260424T023455
CREATED:20231106T210957Z
LAST-MODIFIED:20231106T211100Z
UID:2294-1699552800-1699560000@starq.info
SUMMARY:Apelo à participação - Manifesto em Defesa da Cultura OE2024 - Concentração frente à Assembleia da República - 09/11\, 18h
DESCRIPTION:A proposta para o OE 2024 e as políticas implementadas pelo governo têm sido omissas quanto ao dever do Estado em garantir\, através dos seus profissionais\, instituições e serviços\, a preservação do património arqueológico. \nApesar da anunciada reestruturação do setor público do Património Cultural\, pouco se sabe sobre o que de facto está por vir. Mas\, de momento\, é certo que não está prevista a contratação de trabalhadores do Património Arqueológico\, não está assegurado o investimento na digitalização do Arquivo da Arqueologia Portuguesa\, não se prevê qualquer investimento no Portal do Arqueólogo\, e não há qualquer vislumbre da modernização dos sucedâneos da DGPC (Património Cultural\, I.P. e CCDR). \nO sector da Arqueologia permanece ao abandono\, não há uma palavra no OE2024 que responda aos problemas do setor. Não há resposta à Biblioteca de Arqueologia que desabou\, não há resposta aos prazos nunca cumpridos pela DGPC\, nem aos sistemas informáticos que guardam a informação arqueológica\, que sem investimento continuam a falhar\, muito menos há resposta aos trabalhadores a beira do burnout\, dada a falta de profissionais na Tutela. Mesmo quando o OE dá resposta\, esta não se materializa: é o caso do Plano Nacional de Trabalhos Arqueológicos (PNTA)\, que apesar de previsto no OE 2023 não será executado pelo segundo ano consecutivo\, como atesta o gabinete da Secretária de Estado da Cultura. \nO resultado de uma política de Disneylândia\, que se concentra apenas nos monumentos mais lucrativos\, é o esquecimento e degradação de tudo o que não está nas grandes rotas turísticas\, do que não é rentável\, incluindo os sítios e vestígios arqueológicos. É necessária a inversão de uma longa agonia que há anos debilita paulatinamente o setor da Arqueologia. \nA CULTURA MERECE MAIS! \nO novo Orçamento de Estado renova\, sem surpresas\, a falta de compromisso e visão para a Cultura em Portugal\, mantendo um subinvestimento crónico abaixo do patamar mínimo de 1% que há muito reivindicamos e perpetuando uma lógica de mercantilização\, privatização e elitismo. Um cenário que insiste em delapidar a paisagem cultural do país\, em impedir o acesso da população à criação e fruição cultural e em comprometer o direito ao trabalho e a uma vida digna de milhares de artistas e trabalhadores/as da Cultura. \nChegámos à ruptura na Cultura! Não podemos permanecer em silêncio enquanto o sector cultural está em ruptura. É tempo de unir forças e levantar a nossa voz contra as políticas culturais inadequadas e insuficientes que\, desde há demasiados anos\, nos têm sido impostas. \nExigimos respeito por quem trabalha na Cultura em Portugal. Exigimos um investimento justo e responsável na Cultura. Exigimos nada menos do que um compromisso nacional e democrático com a Cultura\, espelhado na criação de um SERVIÇO PÚBLICO DE CULTURA em todo o território nacional. \nNo dia 9 de Novembro\, pelas 18h\, em frente à Assembleia da República\, um grupo de estruturas representativas da Cultura reunidas sob o lema OUTRA POLÍTICA PARA A CULTURA* conta com todos e todas os/as que acreditam nesta urgência. \nPor 1% para a Cultura\, por um Serviço Público de Cultura\, pelo Portugal de Abril.
URL:https://starq.info/evento/apelo-a-participacao-manifesto-em-defesa-da-cultura-oe2024-concentracao-frente-a-assembleia-da-republica-09-11-18h
CATEGORIES:destaque
ATTACH;FMTTYPE=image/jpeg:https://starq.info/wp_direc/wp-content/uploads/2023/11/cartaz_9Nov.jpg
END:VEVENT
END:VCALENDAR