BEGIN:VCALENDAR
VERSION:2.0
PRODID:-// - ECPv6.15.20//NONSGML v1.0//EN
CALSCALE:GREGORIAN
METHOD:PUBLISH
X-ORIGINAL-URL:https://starq.info
X-WR-CALDESC:Eventos para 
REFRESH-INTERVAL;VALUE=DURATION:PT1H
X-Robots-Tag:noindex
X-PUBLISHED-TTL:PT1H
BEGIN:VTIMEZONE
TZID:UTC
BEGIN:STANDARD
TZOFFSETFROM:+0000
TZOFFSETTO:+0000
TZNAME:UTC
DTSTART:20220101T000000
END:STANDARD
END:VTIMEZONE
BEGIN:VEVENT
DTSTART;TZID=UTC:20230726T230000
DTEND;TZID=UTC:20230726T230000
DTSTAMP:20260424T090823
CREATED:20230725T175912Z
LAST-MODIFIED:20230727T180210Z
UID:2279-1690412400-1690412400@starq.info
SUMMARY:Mesa-Redonda internacional com a participação do STARQ "Arqueologia e Trabalho: articulações e desafios"
DESCRIPTION:No dia 26/07\, pelas 23h (hora portuguesa)\, estaremos presentes a convite da Universidade Federal do Vale de São Francisco (Brasil)\, do Laboratório de Preservação Patrimonial da UNIVASF e do Programa de Pós-Graduação em Arqueologia na mesa-redonda dedicada a debater o tema “Arqueologia e Trabalho: articulações e desafios“. \n \nConvidamos todos a seguir o evento online (YouTube) e a também a conhecer a realidade da arqueologia brasileira.\n \nDirecto para a mesa-redonda: https://www.youtube.com/watch?v=uGexvkI_iWk&ab_channel=PPArqueUNIVASF 
URL:https://starq.info/evento/mesa-redonda-internacional-com-a-participacao-do-starq-arqueologia-e-trabalho-articulacoes-e-desafios
CATEGORIES:destaque
ATTACH;FMTTYPE=image/jpeg:https://starq.info/wp_direc/wp-content/uploads/2020/04/starq-logo.jpg
END:VEVENT
END:VCALENDAR