BEGIN:VCALENDAR
VERSION:2.0
PRODID:-// - ECPv6.15.20//NONSGML v1.0//EN
CALSCALE:GREGORIAN
METHOD:PUBLISH
X-ORIGINAL-URL:https://starq.info
X-WR-CALDESC:Eventos para 
REFRESH-INTERVAL;VALUE=DURATION:PT1H
X-Robots-Tag:noindex
X-PUBLISHED-TTL:PT1H
BEGIN:VTIMEZONE
TZID:UTC
BEGIN:STANDARD
TZOFFSETFROM:+0000
TZOFFSETTO:+0000
TZNAME:UTC
DTSTART:20220101T000000
END:STANDARD
END:VTIMEZONE
BEGIN:VEVENT
DTSTART;TZID=UTC:20230605T180000
DTEND;TZID=UTC:20230605T200000
DTSTAMP:20260424T103736
CREATED:20230604T130133Z
LAST-MODIFIED:20230604T130133Z
UID:2255-1685988000-1685995200@starq.info
SUMMARY:Acção de Rua - MANIFESTO EM DEFESA DA CULTURA - Por um Serviço Público de Cultura | Segunda\, 05 de Junho |
DESCRIPTION:O STARQ integra e subscreve o comunicado do Manifesto em defesa da Cultura. \nAs opções dos sucessivos governos destroem a diversidade e a paisagem cultural do país\, promovem o abandono por parte de artistas e trabalhadores e trabalhadoras da Cultura\, agudizando as incertezas\, a precariedade e a insegurança no trabalho. \nA Constituição impõe ao Estado o compromisso e a responsabilidade central de ser o promotor e o garante do acesso generalizado das populações à criação e fruição dos bens e actividades culturais\, em todo o território nacional\, através do investimento de\, pelo menos\, 1% do Orçamento do Estado (sendo que o valor mínimo recomendado pela UNESCO é de 1% do PIB). \nCultura é trabalho! A valorização do trabalho é essencial para uma Outra Política para a Cultura. Não há uma verdadeira democratização da Cultura sem o trabalho com direitos. Por isso\, ao contrário do que os sucessivos governos têm imposto\, a pretexto de uma excepcionalidade de fachada\, exigimos o fim da desregulação\, dos baixos salários\, da desprotecção na doença e na segurança social\, da precariedade e da insegurança no presente e no futuro. \nOutra política\, que rompa com o alheamento do Estado para com a Cultura e estimule a comunicação regular e de proximidade com os diversos agentes da Cultura. \nOutra política\, que garanta o efectivo acesso à Cultura em todo o território nacional\, sem restrições ou condicionamentos geográficos\, económicos\, sociais ou criativos.\nOutra Política para a Cultura\nOutra política\, que assegure o investimento público necessário e o dever estatal da criação e acompanhamento dos necessários equipamentos e estruturas físicas\, humanas e legislativas. Outra política\, que assuma tais responsabilidades e possa\, verdadeiramente\, ser instrumento da construção de uma verdadeira Democracia Cultural\, desenvolvendo um Serviço Público de Cultura em todo o território nacional. \nA carta completa pode ser lida no site do Público. \nAcção de Rua – MANIFESTO EM DEFESA DA CULTURA – Por um Serviço Público de Cultura | Segunda\, 05 de Junho | Largo de São Domingos (Lisboa)  – Junte-se ao STARQ e às outras plataformas da Cultura. \nSe concorda que é precisa uma outra política para a Cultura subscreva individualmente a carta enviando e-mail para emdefesadacultura@gmail.com . \nA Direcção \n 
URL:https://starq.info/evento/accao-de-rua-manifesto-em-defesa-da-cultura-por-um-servico-publico-de-cultura-segunda-05-de-junho
CATEGORIES:destaque
END:VEVENT
END:VCALENDAR